BEGIN:VCALENDAR
VERSION:2.0
PRODID:-//ChamberMaster//Event Calendar 2.0//EN
METHOD:PUBLISH
X-PUBLISHED-TTL:P3D
REFRESH-INTERVAL:P3D
CALSCALE:GREGORIAN
BEGIN:VEVENT
DTSTART:20261205T140000Z
DTEND:20261205T180000Z
X-MICROSOFT-CDO-ALLDAYEVENT:FALSE
SUMMARY:AC/PV Parade
DESCRIPTION:Come take a look at the Ashland City and the Pleasant View Christmas parade! Fun for everyone!
X-ALT-DESC;FMTTYPE=text/html:Come take a look at the Ashland City and the Pleasant View Christmas parade! Fun for everyone!
LOCATION:TBA
UID:e.1543.20515
SEQUENCE:3
DTSTAMP:20260425T041407Z
URL:http://cheathamchamber.chambermaster.com/events/details/ac-pv-parade-20515
END:VEVENT

END:VCALENDAR
