BEGIN:VCALENDAR
VERSION:2.0
PRODID:-//ChamberMaster//Event Calendar 2.0//EN
METHOD:PUBLISH
X-PUBLISHED-TTL:P3D
REFRESH-INTERVAL:P3D
CALSCALE:GREGORIAN
BEGIN:VEVENT
DTSTART:20260427T160000Z
DTEND:20260427T160000Z
X-MICROSOFT-CDO-ALLDAYEVENT:FALSE
SUMMARY:Ambassador Meeting
DESCRIPTION:This is an ambassador's event so we can touch base and get everyone together! Sabrena will also get a chance to meet everyone!
X-ALT-DESC;FMTTYPE=text/html:This is an ambassador&#39\;s event so we can touch base and get everyone together! Sabrena will also get a chance to meet everyone!
LOCATION:400 Warioto Way\,Ashland City\,37015 At the Chamber
UID:e.1543.21365
SEQUENCE:3
DTSTAMP:20260424T193210Z
URL:http://cheathamchamber.chambermaster.com/events/details/ambassador-meeting-21365
END:VEVENT

END:VCALENDAR
