BEGIN:VCALENDAR
VERSION:2.0
PRODID:-//ChamberMaster//Event Calendar 2.0//EN
METHOD:PUBLISH
X-PUBLISHED-TTL:P3D
REFRESH-INTERVAL:P3D
CALSCALE:GREGORIAN
BEGIN:VEVENT
DTSTART:20260908T160000Z
DTEND:20260908T170000Z
X-MICROSOFT-CDO-ALLDAYEVENT:FALSE
SUMMARY:Chamber Event Commitee
DESCRIPTION:Chamber event committee
X-ALT-DESC;FMTTYPE=text/html:Chamber event committee
LOCATION:400\, Warioto Way\, Ashland City\, 37015
UID:e.1543.20495
SEQUENCE:3
DTSTAMP:20260420T200616Z
URL:http://cheathamchamber.chambermaster.com/events/details/chamber-event-commitee-20495
END:VEVENT

END:VCALENDAR
