BEGIN:VCALENDAR
VERSION:2.0
PRODID:-//ChamberMaster//Event Calendar 2.0//EN
METHOD:PUBLISH
X-PUBLISHED-TTL:P3D
REFRESH-INTERVAL:P3D
CALSCALE:GREGORIAN
BEGIN:VEVENT
DTSTART:20261006T160000Z
DTEND:20261006T170000Z
X-MICROSOFT-CDO-ALLDAYEVENT:FALSE
SUMMARY:Chamber Event Committee
DESCRIPTION:Chamber event committee meeting
X-ALT-DESC;FMTTYPE=text/html:Chamber event committee meeting
LOCATION:400. Warioto Way Ashland City
UID:e.1543.20500
SEQUENCE:3
DTSTAMP:20260421T014007Z
URL:http://cheathamchamber.chambermaster.com/events/details/chamber-event-committee-20500
END:VEVENT

END:VCALENDAR
