BEGIN:VCALENDAR
VERSION:2.0
PRODID:-//ChamberMaster//Event Calendar 2.0//EN
METHOD:PUBLISH
X-PUBLISHED-TTL:P3D
REFRESH-INTERVAL:P3D
CALSCALE:GREGORIAN
BEGIN:VEVENT
DTSTART:20260423T160000Z
DTEND:20260423T180000Z
X-MICROSOFT-CDO-ALLDAYEVENT:FALSE
SUMMARY:Legislative Round Table
DESCRIPTION:Join us and our elected officials for the annual Cheatham County Address. This round table is a unique opportunity to hear our current conditions and share what the future holds. Don't miss this chance to stay informed. Bob Belvin will serve as moderator.
X-ALT-DESC;FMTTYPE=text/html:<span style="color:#000000\;"><span class="a_GcMg font-feature-liga-off font-feature-clig-off font-feature-calt-off text-decoration-none text-strikethrough-none" style="caret-color: rgb(216\, 211\, 110)\; --Ys-XuQ: none\; font-weight: 700\; font-kerning: none\;">Join us and our elected officials for the annual Cheatham County Address. This round table is a unique opportunity to hear our current conditions and share what the future holds. Don&#39\;t miss this chance to stay informed. Bob Belvin will serve as moderator.</span></span>
LOCATION:Gateway Church 642 Highway 12 S Ashland City\, TN
UID:e.1543.20570
SEQUENCE:3
DTSTAMP:20260421T011459Z
URL:http://cheathamchamber.chambermaster.com/events/details/legislative-round-table-20570
END:VEVENT

END:VCALENDAR
