BEGIN:VCALENDAR
VERSION:2.0
PRODID:-//ChamberMaster//Event Calendar 2.0//EN
METHOD:PUBLISH
X-PUBLISHED-TTL:P3D
REFRESH-INTERVAL:P3D
CALSCALE:GREGORIAN
BEGIN:VEVENT
DTSTART;VALUE=DATE:20260915
DTEND;VALUE=DATE:20260916
TRANSP:TRANSPARENT
X-MICROSOFT-CDO-ALLDAYEVENT:TRUE
SUMMARY:Lunch Mob
DESCRIPTION:Lunch mob for the Chamber
X-ALT-DESC;FMTTYPE=text/html:Lunch mob for the Chamber
LOCATION:
UID:e.1543.20497
SEQUENCE:3
DTSTAMP:20260421T070215Z
URL:http://cheathamchamber.chambermaster.com/events/details/lunch-mob-20497
END:VEVENT

END:VCALENDAR
