BEGIN:VCALENDAR
VERSION:2.0
PRODID:-//ChamberMaster//Event Calendar 2.0//EN
METHOD:PUBLISH
X-PUBLISHED-TTL:P3D
REFRESH-INTERVAL:P3D
CALSCALE:GREGORIAN
BEGIN:VEVENT
DTSTART:20260903T130000Z
DTEND:20260903T140000Z
X-MICROSOFT-CDO-ALLDAYEVENT:FALSE
SUMMARY:Morning Mingle
DESCRIPTION:Monthly Morning Mingle
X-ALT-DESC;FMTTYPE=text/html:Monthly Morning Mingle
LOCATION:
UID:e.1543.20493
SEQUENCE:3
DTSTAMP:20260420T214604Z
URL:http://cheathamchamber.chambermaster.com/events/details/morning-mingle-20493
END:VEVENT

END:VCALENDAR
