BEGIN:VCALENDAR
VERSION:2.0
PRODID:-//ChamberMaster//Event Calendar 2.0//EN
METHOD:PUBLISH
X-PUBLISHED-TTL:P3D
REFRESH-INTERVAL:P3D
CALSCALE:GREGORIAN
BEGIN:VEVENT
DTSTART:20261224T060000Z
DTEND:20270103T050000Z
X-MICROSOFT-CDO-ALLDAYEVENT:FALSE
SUMMARY:Office Closed-Holidays
DESCRIPTION:Closed for the holidays
X-ALT-DESC;FMTTYPE=text/html:Closed for the holidays
LOCATION:
UID:e.1543.20517
SEQUENCE:3
DTSTAMP:20260424T174621Z
URL:http://cheathamchamber.chambermaster.com/events/details/office-closed-holidays-20517
END:VEVENT

END:VCALENDAR
